BEGIN:VCALENDAR
VERSION:2.0
PRODID:-//Gifted Gems - ECPv6.15.18//NONSGML v1.0//EN
CALSCALE:GREGORIAN
METHOD:PUBLISH
X-ORIGINAL-URL:https://giftedgems.org
X-WR-CALDESC:Events for Gifted Gems
REFRESH-INTERVAL;VALUE=DURATION:PT1H
X-Robots-Tag:noindex
X-PUBLISHED-TTL:PT1H
BEGIN:VTIMEZONE
TZID:Europe/Moscow
BEGIN:STANDARD
TZOFFSETFROM:+0300
TZOFFSETTO:+0300
TZNAME:MSK
DTSTART:20250101T000000
END:STANDARD
END:VTIMEZONE
BEGIN:VEVENT
DTSTART;TZID=Europe/Moscow:20260128T190000
DTEND;TZID=Europe/Moscow:20260128T210000
DTSTAMP:20260423T162028
CREATED:20260121T210229Z
LAST-MODIFIED:20260121T210229Z
UID:3477-1769626800-1769634000@giftedgems.org
SUMMARY:Inclusive Eating Habits in Autism Care: Nutrition Approaches That Support Growth and Well-Being
DESCRIPTION:FREE WEBINAR INVITE\nGifted Gems is pleased to host this important webinar featuring Lisah Raisah Akoth Ogutu\, a Clinical Dietitian and Pediatric Nutritionist with extensive hands-on experience supporting children on the autism spectrum. \nDate: Wednesday\, 28/01/2026\n🕖 Time: 7:00 PM – 9:00 PM EAT\n📍 Zoom Platform\n🔗 Register Here: https://us06web.zoom.us/meeting/register/ZAVwfzJRTUuK36Uq-vuUCQ\n🔐 Meeting ID 865 1527 907| Passcode: 337940
URL:https://giftedgems.org/event/inclusive-eating-habits-in-autism-care-nutrition-approaches-that-support-growth-and-well-being/
CATEGORIES:Training,Webinar
ATTACH;FMTTYPE=image/webp:https://giftedgems.org/wp-content/uploads/2026/01/GG-Webinar-Inclusive-Eating-Habits-in-Autism-Care_Jan-2026.webp
ORGANIZER;CN="Gifted Gems":MAILTO:info@giftedgems.org
END:VEVENT
END:VCALENDAR