BEGIN:VCALENDAR
VERSION:2.0
PRODID:-//Gifted Gems - ECPv6.15.18//NONSGML v1.0//EN
CALSCALE:GREGORIAN
METHOD:PUBLISH
X-WR-CALNAME:Gifted Gems
X-ORIGINAL-URL:https://giftedgems.org
X-WR-CALDESC:Events for Gifted Gems
REFRESH-INTERVAL;VALUE=DURATION:PT1H
X-Robots-Tag:noindex
X-PUBLISHED-TTL:PT1H
BEGIN:VTIMEZONE
TZID:Africa/Nairobi
BEGIN:STANDARD
TZOFFSETFROM:+0300
TZOFFSETTO:+0300
TZNAME:EAT
DTSTART:20230101T000000
END:STANDARD
END:VTIMEZONE
BEGIN:VTIMEZONE
TZID:Europe/Moscow
BEGIN:STANDARD
TZOFFSETFROM:+0300
TZOFFSETTO:+0300
TZNAME:MSK
DTSTART:20230101T000000
END:STANDARD
END:VTIMEZONE
BEGIN:VEVENT
DTSTART;TZID=Africa/Nairobi:20240221T180000
DTEND;TZID=Africa/Nairobi:20240221T193000
DTSTAMP:20260425T193741
CREATED:20240216T081932Z
LAST-MODIFIED:20250618T091446Z
UID:3339-1708538400-1708543800@giftedgems.org
SUMMARY:Autism Caregiver Hangout - Accepting And Embracing The Diagnosis
DESCRIPTION:AUTISM – CAREGIVER HANGOUT! \nAccepting and embracing the diagnosis
URL:https://giftedgems.org/event/autism-caregiver-hangout-accepting-and-embracing-the-diagnosis/
CATEGORIES:Webinar
ATTACH;FMTTYPE=image/webp:https://giftedgems.org/wp-content/uploads/2024/02/event-autism_caregiver_hangout-embrasing_diagnosis.webp
ORGANIZER;CN="Gifted Gems":MAILTO:info@giftedgems.org
END:VEVENT
BEGIN:VEVENT
DTSTART;TZID=Europe/Moscow:20240314T110000
DTEND;TZID=Europe/Moscow:20240314T120000
DTSTAMP:20260425T193741
CREATED:20240313T130355Z
LAST-MODIFIED:20250618T091247Z
UID:3344-1710414000-1710417600@giftedgems.org
SUMMARY:Autism and Related Developmental Disabilities Unit - National Council of Persons With Disabilities
DESCRIPTION:What is the role of the National Council of Persons With Disabilities (NCPWD) in supporting Autism?
URL:https://giftedgems.org/event/autism-and-related-developmental-disabilities-unit-national-council-of-persons-with-disabilities/
CATEGORIES:Webinar
ATTACH;FMTTYPE=image/webp:https://giftedgems.org/wp-content/uploads/2023/10/event_autism_NCPWD.webp
ORGANIZER;CN="Gifted Gems":MAILTO:info@giftedgems.org
END:VEVENT
BEGIN:VEVENT
DTSTART;TZID=Europe/Moscow:20240418T100000
DTEND;TZID=Europe/Moscow:20240418T120000
DTSTAMP:20260425T193741
CREATED:20240416T121553Z
LAST-MODIFIED:20250618T091047Z
UID:3357-1713434400-1713441600@giftedgems.org
SUMMARY:Autism Awareness: Early Childhood Development Teacher Empowerment Webinar
DESCRIPTION:#Towards early identification and intervention! \nLearn:\n1. Understanding autism\n2. Communication when dealing with a child with autism\n3. How to manage the behavior of a child with autism\n4. Ways of accommodating a child with autism in the classroom\n5. How to communicate to a parent on the need for early intervention and so much more!
URL:https://giftedgems.org/event/autism-awareness-early-childhood-development-teacher-empowerment-webinar/
CATEGORIES:Webinar
ATTACH;FMTTYPE=image/webp:https://giftedgems.org/wp-content/uploads/2024/04/ECD_teacher_empowerment-18042024.webp
ORGANIZER;CN="Gifted Gems":MAILTO:info@giftedgems.org
END:VEVENT
BEGIN:VEVENT
DTSTART;TZID=Europe/Moscow:20240504T170000
DTEND;TZID=Europe/Moscow:20240504T210000
DTSTAMP:20260425T193741
CREATED:20240423T123641Z
LAST-MODIFIED:20250618T090948Z
UID:3364-1714842000-1714856400@giftedgems.org
SUMMARY:AUTISM CAREGIVER DINNER HANGOUT!
DESCRIPTION:Experience an evening of fun\, gourmet delights\, networking\, enlightenment\, experiential storytelling\, and heartfelt bonding. \n  \nVenue: The Ngong Hills Hotel \nCharges: Kshs. 3\,000\nMPESA Paybill Number: 4088723\nAccount Name: Gifted Gems\nAccount No: Dinner \nPayment Deadline: 2nd May \nCall: 0740 697 373 \n 
URL:https://giftedgems.org/event/autism-caregiver-dinner-hangout/
CATEGORIES:Dinner
ATTACH;FMTTYPE=image/webp:https://giftedgems.org/wp-content/uploads/2024/04/GG_Dinner_Hangout-04052024_v3.webp
ORGANIZER;CN="Gifted Gems":MAILTO:info@giftedgems.org
END:VEVENT
BEGIN:VEVENT
DTSTART;TZID=Europe/Moscow:20240529T100000
DTEND;TZID=Europe/Moscow:20240529T120000
DTSTAMP:20260425T193741
CREATED:20240529T070024Z
LAST-MODIFIED:20240914T090939Z
UID:3378-1716976800-1716984000@giftedgems.org
SUMMARY:Child Safety And Protection Policy 2024 - Nairobi County: Provisions On Autism
DESCRIPTION:Child Safety And Protection Policy 2024 \nNairobi County: Provisions On Autism
URL:https://giftedgems.org/event/child-safety-and-protection-policy-2024-nairobi-county-provisions-on-autism/
CATEGORIES:Webinar
ATTACH;FMTTYPE=image/webp:https://giftedgems.org/wp-content/uploads/2024/05/Webinar_Child_Safety_and_Protection_Policy_2024.webp
ORGANIZER;CN="Gifted Gems":MAILTO:info@giftedgems.org
END:VEVENT
BEGIN:VEVENT
DTSTART;TZID=Europe/Moscow:20240614T100000
DTEND;TZID=Europe/Moscow:20240614T120000
DTSTAMP:20260425T193741
CREATED:20240612T125759Z
LAST-MODIFIED:20250618T090514Z
UID:3384-1718359200-1718366400@giftedgems.org
SUMMARY:Autism And Sleeping Disorders In Children
DESCRIPTION:Webinar: Autism And Sleeping Disorders In Children \nJoin us as we engage Dr. Mary Madu Madu (Child Nerodevelopmental Specialist) on autism and sleeping disorders in children
URL:https://giftedgems.org/event/autism-and-sleeping-disorders-in-children/
CATEGORIES:Webinar
ATTACH;FMTTYPE=image/webp:https://giftedgems.org/wp-content/uploads/2024/06/Webinar_Autism_and_Sleeping_Disorders_In_Children_2024.webp
ORGANIZER;CN="Gifted Gems":MAILTO:info@giftedgems.org
END:VEVENT
BEGIN:VEVENT
DTSTART;TZID=Europe/Moscow:20240807T100000
DTEND;TZID=Europe/Moscow:20240807T120000
DTSTAMP:20260425T193741
CREATED:20240805T072342Z
LAST-MODIFIED:20250618T090742Z
UID:3388-1723024800-1723032000@giftedgems.org
SUMMARY:Gastrointestinal conditions in children with autism
DESCRIPTION:Welcome. Lets learn together on autism and Gastro-intestinal Disorders in Children
URL:https://giftedgems.org/event/gastrointestinal-conditions-in-children-with-autism/
CATEGORIES:Training,Webinar
ATTACH;FMTTYPE=image/webp:https://giftedgems.org/wp-content/uploads/2024/08/event_gastrointestinal_conditions_in_children_with_autism.webp
ORGANIZER;CN="Gifted Gems":MAILTO:info@giftedgems.org
END:VEVENT
BEGIN:VEVENT
DTSTART;TZID=Europe/Moscow:20240911T100000
DTEND;TZID=Europe/Moscow:20240911T120000
DTSTAMP:20260425T193741
CREATED:20240906T062747Z
LAST-MODIFIED:20250618T090648Z
UID:3393-1726048800-1726056000@giftedgems.org
SUMMARY:Ear diseases and hearing problems in children with autism
DESCRIPTION:Join us for an insightful webinar on Ear Diseases and Hearing Problems in Children with Autism! Together\, we’ll explore how to identify the signs and symptoms\, understand the diagnosis process\, and discover effective management strategies. \nWe’re thrilled to have Dr. Lillian Mokoh\, an esteemed ENT Surgeon at KUTRRH and Otology Fellow at the University of Cape Town\, as our facilitator. Don’t miss this opportunity to learn from one of the best! Kindly find the link below for registration:
URL:https://giftedgems.org/event/ear-diseases-and-hearing-problems-in-children-with-autism/
CATEGORIES:Webinar
ATTACH;FMTTYPE=image/webp:https://giftedgems.org/wp-content/uploads/2024/08/GG-Webinar-Ear-diseases-and-hearing-problems-in-children-with-autism.webp
ORGANIZER;CN="Gifted Gems":MAILTO:info@giftedgems.org
END:VEVENT
BEGIN:VEVENT
DTSTART;TZID=Europe/Moscow:20241205T080000
DTEND;TZID=Europe/Moscow:20241205T160000
DTSTAMP:20260425T193741
CREATED:20241202T210829Z
LAST-MODIFIED:20241202T210829Z
UID:3395-1733385600-1733414400@giftedgems.org
SUMMARY:Care For The Family - Disability Medical Assessment
DESCRIPTION:Join us for our Care for the family: Disability Medical Assessment event! 5th December 2024 from 8am to 4pm at the St. Joseph Nursery and Primary School Kangemi
URL:https://giftedgems.org/event/care-for-the-family-disability-medical-assessment/
CATEGORIES:Medical Camp
ATTACH;FMTTYPE=image/jpeg:https://giftedgems.org/wp-content/uploads/2024/12/GG_Care-for-the-family-5th-Dec-2024.jpg
ORGANIZER;CN="Gifted Gems":MAILTO:info@giftedgems.org
END:VEVENT
BEGIN:VEVENT
DTSTART;TZID=Europe/Moscow:20250207T193000
DTEND;TZID=Europe/Moscow:20250207T203000
DTSTAMP:20260425T193741
CREATED:20250126T100349Z
LAST-MODIFIED:20250618T090322Z
UID:3400-1738956600-1738960200@giftedgems.org
SUMMARY:Toileting and autism
DESCRIPTION:Dear Caregivers\,\nWe understand the unique challenges and rewards that come with supporting a child with autism. To help you in this journey\, we are excited to invite you to our upcoming webinar\, “Toileting and Autism: Building Readiness\, Addressing Sensory Needs\, and Supporting Success.” \nDate: 7TH FEBRUARY 2025\nTime : 7.30PM-8.30PM \nPlatform: ZOOM\, https://us06web.zoom.us/meeting/register/XxLhW478QWa6ZoZ9HQVo8g \nIn this webinar\, we will explore:\n– Strategies to build readiness for toileting\n– Techniques to address sensory needs during the toileting process\n– Practical tips and tools to support your child’s success and independence \nThis webinar is designed to provide valuable insights and practical advice\, empowering you to better support your child through this important milestone. Our expert speaker\, Ms Dorothy Kirorei\, an Occupational therapist will share her extensive knowledge and answer any questions you may have. \nWe look forward to having you join us for this informative and supportive session. \nKind Regards\,\nGifted Gems Team
URL:https://giftedgems.org/event/toileting-and-autism/
CATEGORIES:Training,Webinar
ATTACH;FMTTYPE=image/webp:https://giftedgems.org/wp-content/uploads/2025/01/event_toileting_and_autism.webp
ORGANIZER;CN="Gifted Gems":MAILTO:info@giftedgems.org
END:VEVENT
BEGIN:VEVENT
DTSTART;TZID=Europe/Moscow:20250308T090000
DTEND;TZID=Europe/Moscow:20250308T123000
DTSTAMP:20260425T193741
CREATED:20250307T091148Z
LAST-MODIFIED:20250307T091148Z
UID:3405-1741424400-1741437000@giftedgems.org
SUMMARY:International Women's Day 2025
DESCRIPTION:International Women’s day at Westlands Health Center \nNear Sarit Center Opposite GT Bank \nFor all women and girls: Rights\, Equality\, Empowerment \nTime: 9.00am to 12.30pm
URL:https://giftedgems.org/event/international-womens-day-2025/
LOCATION:Westlands Health Center\, near Sarit Center Opposite GT Bank\, Westlands\, Nairobi\, Kenya
CATEGORIES:Event
ATTACH;FMTTYPE=image/webp:https://giftedgems.org/wp-content/uploads/2025/03/GG-Event-IWD-with-Nairobi-County.webp
END:VEVENT
BEGIN:VEVENT
DTSTART;TZID=Europe/Moscow:20250701T190000
DTEND;TZID=Europe/Moscow:20250701T210000
DTSTAMP:20260425T193741
CREATED:20250618T084440Z
LAST-MODIFIED:20250630T190636Z
UID:3458-1751396400-1751403600@giftedgems.org
SUMMARY:Together Through the Spectrum: Caregivers' Experiences and Insights
DESCRIPTION:FREE WEBINAR INVITE\nTogether Through the Spectrum: Caregivers’ Experiences and Insights\nTransitioning into and Managing Teenagehood for Children with Autism\nDate: Tuesday\, 1st July 2025\n🕖 Time: 7:00 PM – 9:00 PM EAT\n📍 Zoom Platform\n🔗 Register Here: https://us06web.zoom.us/meeting/register/NMZCSfs9Q4-7k8Z6CVJqSw\n🔐 Meeting ID 893 1891 0866| Passcode: 156151 \nUnderstanding Teenagehood in Autism: Why This Webinar Matters\nTeenagehood is a time of immense change — physically\, emotionally\, socially\, and cognitively. For children with autism\, this period can be especially complex. Shifts in behavior\, emerging questions around sexuality\, struggles with identity\, and increased academic and social pressures can challenge both teens and their caregivers.\nChildren on the spectrum may experience puberty differently and might require unique support systems to navigate this critical life stage. As caregivers\, understanding these changes is essential in helping teens thrive while maintaining their dignity\, autonomy\, and well-being.\nThis webinar will provide a safe and informative space where caregivers can learn from those who’ve walked the journey — as parents and professionals. It’s a moment to reflect\, relate\, and be re-energized with practical tools for guiding autistic teens through this phase.\n🎙 Featured Speakers:\n• Masika Naliaka Isabella – Special Needs Educator & Autism Parent\n• Martin Kilavi – Therapist\, Disability Advocate & Special Needs Father\n• Irene Muturi Kigathi- Advocate and Mum of an adult with autism\, Functional Living Skills Trainer/Special Needs Coach\n• Paul Mugi- Lawyer\n• Moderator: Caroline Wathigi – Executive Director\, Gifted Gems \n💡 What to Expect:\n✔ Lived experiences from autism caregivers\n✔ Expert strategies for managing behavior and development\n✔ Guidance on sexuality\, education\, and social challenges\n✔ A supportive\, interactive session \nWho Should Attend?\n• Parents and caregivers of children with autism\n• Educators and therapists\n• Youth advocates and disability inclusion champions\n• Anyone interested in autism awareness and support\nLet’s come together to explore\, learn\, and support one another — through the spectrum and beyond.\nRegister today and invite a fellow caregiver!
URL:https://giftedgems.org/event/together-through-the-spectrum-caregivers-experiences-and-insights/
CATEGORIES:Training,Webinar
ATTACH;FMTTYPE=image/webp:https://giftedgems.org/wp-content/uploads/2025/06/GG-Webinar-Together-through-the-spectrum-Caregiver-experiences-and-insights.webp
ORGANIZER;CN="Gifted Gems":MAILTO:info@giftedgems.org
END:VEVENT
BEGIN:VEVENT
DTSTART;TZID=Europe/Moscow:20260128T190000
DTEND;TZID=Europe/Moscow:20260128T210000
DTSTAMP:20260425T193741
CREATED:20260121T210229Z
LAST-MODIFIED:20260121T210229Z
UID:3477-1769626800-1769634000@giftedgems.org
SUMMARY:Inclusive Eating Habits in Autism Care: Nutrition Approaches That Support Growth and Well-Being
DESCRIPTION:FREE WEBINAR INVITE\nGifted Gems is pleased to host this important webinar featuring Lisah Raisah Akoth Ogutu\, a Clinical Dietitian and Pediatric Nutritionist with extensive hands-on experience supporting children on the autism spectrum. \nDate: Wednesday\, 28/01/2026\n🕖 Time: 7:00 PM – 9:00 PM EAT\n📍 Zoom Platform\n🔗 Register Here: https://us06web.zoom.us/meeting/register/ZAVwfzJRTUuK36Uq-vuUCQ\n🔐 Meeting ID 865 1527 907| Passcode: 337940
URL:https://giftedgems.org/event/inclusive-eating-habits-in-autism-care-nutrition-approaches-that-support-growth-and-well-being/
CATEGORIES:Training,Webinar
ATTACH;FMTTYPE=image/webp:https://giftedgems.org/wp-content/uploads/2026/01/GG-Webinar-Inclusive-Eating-Habits-in-Autism-Care_Jan-2026.webp
ORGANIZER;CN="Gifted Gems":MAILTO:info@giftedgems.org
END:VEVENT
BEGIN:VEVENT
DTSTART;TZID=Europe/Moscow:20260326T190000
DTEND;TZID=Europe/Moscow:20260326T210000
DTSTAMP:20260425T193741
CREATED:20260312T120314Z
LAST-MODIFIED:20260312T120314Z
UID:3483-1774551600-1774558800@giftedgems.org
SUMMARY:Creating Autism Inclusive Spaces At Home
DESCRIPTION:CREATING AUTISM INCLUSIVE SPACES AT HOME \nPractical strategies for caregivers \nWhat you will learn \n\nUnderstanding sensory needs in children with autism\nHow to create calming and sensory-friendly spaces at home\nPractical strategies to support routines and independence\nSimple sensory tools caregivers can use at home\nTips for reducing sensory overload and meltdowns\n\n  \nDate: Thursday\, 26 March 2026 \nTime: 7:00PM – 9:00PM EAT\, Platform: Zoom \nMeeting ID: 828 2354 7491\, Passcode: 949931
URL:https://giftedgems.org/event/creating-autism-inclusive-spaces-at-home/
CATEGORIES:Webinar
ATTACH;FMTTYPE=image/webp:https://giftedgems.org/wp-content/uploads/2026/03/GG-Webinar-Creating-Autism-Inclusive-Spaces-At-Home_Mar-2026.webp
ORGANIZER;CN="Gifted Gems":MAILTO:info@giftedgems.org
END:VEVENT
BEGIN:VEVENT
DTSTART;TZID=Europe/Moscow:20260404T090000
DTEND;TZID=Europe/Moscow:20260405T163000
DTSTAMP:20260425T193741
CREATED:20260403T175125Z
LAST-MODIFIED:20260403T175125Z
UID:3572-1775293200-1775406600@giftedgems.org
SUMMARY:Care For The Family: Medical and Autism Awareness Outreach 2026
DESCRIPTION:Care For the family : Medical and Autism Awareness Outreach \nVenue: ACK Emmanuel Church\, Kibiku – Wangige \nDates: 4th & 5th April 2026 \nTime: 9.00am to 4.30pm
URL:https://giftedgems.org/event/care-for-the-family-medical-and-autism-awareness-outreach-2026/
LOCATION:ACK Emmanuel Church\, Kibiku – Wangige\, Kiambu\, Kenya
CATEGORIES:Event,Medical Camp
ATTACH;FMTTYPE=image/webp:https://giftedgems.org/wp-content/uploads/2026/04/Care-For-The-Family-Slider-2026.webp
ORGANIZER;CN="Gifted Gems":MAILTO:info@giftedgems.org
END:VEVENT
END:VCALENDAR