BEGIN:VCALENDAR
VERSION:2.0
PRODID:-//Gifted Gems - ECPv6.15.18//NONSGML v1.0//EN
CALSCALE:GREGORIAN
METHOD:PUBLISH
X-WR-CALNAME:Gifted Gems
X-ORIGINAL-URL:https://giftedgems.org
X-WR-CALDESC:Events for Gifted Gems
REFRESH-INTERVAL;VALUE=DURATION:PT1H
X-Robots-Tag:noindex
X-PUBLISHED-TTL:PT1H
BEGIN:VTIMEZONE
TZID:Europe/Moscow
BEGIN:STANDARD
TZOFFSETFROM:+0300
TZOFFSETTO:+0300
TZNAME:MSK
DTSTART:20250101T000000
END:STANDARD
END:VTIMEZONE
BEGIN:VEVENT
DTSTART;TZID=Europe/Moscow:20260404T090000
DTEND;TZID=Europe/Moscow:20260405T163000
DTSTAMP:20260423T222348
CREATED:20260403T175125Z
LAST-MODIFIED:20260403T175125Z
UID:3572-1775293200-1775406600@giftedgems.org
SUMMARY:Care For The Family: Medical and Autism Awareness Outreach 2026
DESCRIPTION:Care For the family : Medical and Autism Awareness Outreach \nVenue: ACK Emmanuel Church\, Kibiku – Wangige \nDates: 4th & 5th April 2026 \nTime: 9.00am to 4.30pm
URL:https://giftedgems.org/event/care-for-the-family-medical-and-autism-awareness-outreach-2026/
LOCATION:ACK Emmanuel Church\, Kibiku – Wangige\, Kiambu\, Kenya
CATEGORIES:Event,Medical Camp
ATTACH;FMTTYPE=image/webp:https://giftedgems.org/wp-content/uploads/2026/04/Care-For-The-Family-Slider-2026.webp
ORGANIZER;CN="Gifted Gems":MAILTO:info@giftedgems.org
END:VEVENT
END:VCALENDAR