BEGIN:VCALENDAR
VERSION:2.0
PRODID:-//Gifted Gems - ECPv6.15.18//NONSGML v1.0//EN
CALSCALE:GREGORIAN
METHOD:PUBLISH
X-WR-CALNAME:Gifted Gems
X-ORIGINAL-URL:https://giftedgems.org
X-WR-CALDESC:Events for Gifted Gems
REFRESH-INTERVAL;VALUE=DURATION:PT1H
X-Robots-Tag:noindex
X-PUBLISHED-TTL:PT1H
BEGIN:VTIMEZONE
TZID:Europe/Moscow
BEGIN:STANDARD
TZOFFSETFROM:+0300
TZOFFSETTO:+0300
TZNAME:MSK
DTSTART:20220101T000000
END:STANDARD
END:VTIMEZONE
BEGIN:VTIMEZONE
TZID:Africa/Nairobi
BEGIN:STANDARD
TZOFFSETFROM:+0300
TZOFFSETTO:+0300
TZNAME:EAT
DTSTART:20220101T000000
END:STANDARD
END:VTIMEZONE
BEGIN:VEVENT
DTSTART;TZID=Europe/Moscow:20240418T100000
DTEND;TZID=Europe/Moscow:20240418T120000
DTSTAMP:20260421T172748
CREATED:20240416T121553Z
LAST-MODIFIED:20250618T091047Z
UID:3357-1713434400-1713441600@giftedgems.org
SUMMARY:Autism Awareness: Early Childhood Development Teacher Empowerment Webinar
DESCRIPTION:#Towards early identification and intervention! \nLearn:\n1. Understanding autism\n2. Communication when dealing with a child with autism\n3. How to manage the behavior of a child with autism\n4. Ways of accommodating a child with autism in the classroom\n5. How to communicate to a parent on the need for early intervention and so much more!
URL:https://giftedgems.org/event/autism-awareness-early-childhood-development-teacher-empowerment-webinar/
CATEGORIES:Webinar
ATTACH;FMTTYPE=image/webp:https://giftedgems.org/wp-content/uploads/2024/04/ECD_teacher_empowerment-18042024.webp
ORGANIZER;CN="Gifted Gems":MAILTO:info@giftedgems.org
END:VEVENT
BEGIN:VEVENT
DTSTART;TZID=Europe/Moscow:20240314T110000
DTEND;TZID=Europe/Moscow:20240314T120000
DTSTAMP:20260421T172748
CREATED:20240313T130355Z
LAST-MODIFIED:20250618T091247Z
UID:3344-1710414000-1710417600@giftedgems.org
SUMMARY:Autism and Related Developmental Disabilities Unit - National Council of Persons With Disabilities
DESCRIPTION:What is the role of the National Council of Persons With Disabilities (NCPWD) in supporting Autism?
URL:https://giftedgems.org/event/autism-and-related-developmental-disabilities-unit-national-council-of-persons-with-disabilities/
CATEGORIES:Webinar
ATTACH;FMTTYPE=image/webp:https://giftedgems.org/wp-content/uploads/2023/10/event_autism_NCPWD.webp
ORGANIZER;CN="Gifted Gems":MAILTO:info@giftedgems.org
END:VEVENT
BEGIN:VEVENT
DTSTART;TZID=Africa/Nairobi:20240221T180000
DTEND;TZID=Africa/Nairobi:20240221T193000
DTSTAMP:20260421T172748
CREATED:20240216T081932Z
LAST-MODIFIED:20250618T091446Z
UID:3339-1708538400-1708543800@giftedgems.org
SUMMARY:Autism Caregiver Hangout - Accepting And Embracing The Diagnosis
DESCRIPTION:AUTISM – CAREGIVER HANGOUT! \nAccepting and embracing the diagnosis
URL:https://giftedgems.org/event/autism-caregiver-hangout-accepting-and-embracing-the-diagnosis/
CATEGORIES:Webinar
ATTACH;FMTTYPE=image/webp:https://giftedgems.org/wp-content/uploads/2024/02/event-autism_caregiver_hangout-embrasing_diagnosis.webp
ORGANIZER;CN="Gifted Gems":MAILTO:info@giftedgems.org
END:VEVENT
BEGIN:VEVENT
DTSTART;TZID=Africa/Nairobi:20231102T103000
DTEND;TZID=Africa/Nairobi:20231102T113000
DTSTAMP:20260421T172748
CREATED:20231028T103611Z
LAST-MODIFIED:20250618T091632Z
UID:2950-1698921000-1698924600@giftedgems.org
SUMMARY:Autism Awareness - ABA Therapy
DESCRIPTION:Welcome to yet another webinar exploring ABA Therapy!\nWhat is ABA Therapy?\nWho does and where is ABA therapy done?\nWhat are the benefits of ABA and so much more!
URL:https://giftedgems.org/event/autism-awareness-aba-therapy/
CATEGORIES:Training,Webinar
ATTACH;FMTTYPE=image/webp:https://giftedgems.org/wp-content/uploads/2023/10/event-autism_awareness_webinar-aba_therapy2.webp
ORGANIZER;CN="Gifted Gems":MAILTO:info@giftedgems.org
END:VEVENT
BEGIN:VEVENT
DTSTART;TZID=Europe/Moscow:20230906T183000
DTEND;TZID=Europe/Moscow:20230906T203000
DTSTAMP:20260421T172748
CREATED:20231029T140415Z
LAST-MODIFIED:20250618T091754Z
UID:2970-1694025000-1694032200@giftedgems.org
SUMMARY:Autism Awareness - Animal Assisted Therapy
DESCRIPTION:Autism Awareness – Animal Assisted Therapy
URL:https://giftedgems.org/event/autism-awareness-animal-assisted-therapy/
CATEGORIES:Webinar
ATTACH;FMTTYPE=image/webp:https://giftedgems.org/wp-content/uploads/2023/10/event-autism_awareness_webinar-aat_therapy.webp
ORGANIZER;CN="Gifted Gems":MAILTO:info@giftedgems.org
END:VEVENT
BEGIN:VEVENT
DTSTART;TZID=Africa/Nairobi:20230831T170000
DTEND;TZID=Africa/Nairobi:20230831T190000
DTSTAMP:20260421T172748
CREATED:20230801T205115Z
LAST-MODIFIED:20250618T092129Z
UID:2433-1693501200-1693508400@giftedgems.org
SUMMARY:Mental Health For The Care Giver
DESCRIPTION:There are many coping therapies that can help children with autism get better with social interaction. One of which is Music. \nTwo main methods used by therapists to engage autistic individuals with music are improvisation and repetition. Improvisation allows the person to be more expressive with their own personality while repetition allows the individual to feel a sense of control over the environment around them. The method used really depends on the individual needs of each child.
URL:https://giftedgems.org/event/mental-health-for-caregiver/
CATEGORIES:Training,Webinar
ATTACH;FMTTYPE=image/webp:https://giftedgems.org/wp-content/uploads/2023/08/mental_health-care-giver-tile2.webp
ORGANIZER;CN="Gifted Gems":MAILTO:info@giftedgems.org
END:VEVENT
BEGIN:VEVENT
DTSTART;TZID=Africa/Nairobi:20230815T170000
DTEND;TZID=Africa/Nairobi:20230815T190000
DTSTAMP:20260421T172749
CREATED:20230801T204305Z
LAST-MODIFIED:20250618T085607Z
UID:2393-1692118800-1692126000@giftedgems.org
SUMMARY:Autism Awareness - Music Therapy
DESCRIPTION:There are many coping therapies that can help children with autism get better with social interaction. One of which is Music. \nTwo main methods used by therapists to engage autistic individuals with music are improvisation and repetition. Improvisation allows the person to be more expressive with their own personality while repetition allows the individual to feel a sense of control over the environment around them. The method used really depends on the individual needs of each child.
URL:https://giftedgems.org/event/autism-awareness-music-therapy/
CATEGORIES:Training,Webinar
ATTACH;FMTTYPE=image/webp:https://giftedgems.org/wp-content/uploads/2023/08/autism_music-awareness-tile.webp
ORGANIZER;CN="Gifted Gems":MAILTO:info@giftedgems.org
END:VEVENT
BEGIN:VEVENT
DTSTART;TZID=Europe/Moscow:20230726T110000
DTEND;TZID=Europe/Moscow:20230726T130000
DTSTAMP:20260421T172749
CREATED:20231029T140933Z
LAST-MODIFIED:20231029T140933Z
UID:2972-1690369200-1690376400@giftedgems.org
SUMMARY:Autism Awareness: Music Therapy
DESCRIPTION:Autism Awareness: Music Therapy
URL:https://giftedgems.org/event/autism-awareness-music-therapy-2/
CATEGORIES:Webinar
ATTACH;FMTTYPE=image/webp:https://giftedgems.org/wp-content/uploads/2023/10/event-autism_awareness_webinar-music_therapy.webp
ORGANIZER;CN="Gifted Gems":MAILTO:info@giftedgems.org
END:VEVENT
BEGIN:VEVENT
DTSTART;TZID=Europe/Moscow:20230621T153000
DTEND;TZID=Europe/Moscow:20230621T173000
DTSTAMP:20260421T172749
CREATED:20231029T142907Z
LAST-MODIFIED:20250618T092328Z
UID:2980-1687361400-1687368600@giftedgems.org
SUMMARY:Autism Awareness: Augmentative and Alternative Communication (AAC)
DESCRIPTION:Autism Awareness: Augmentative and Alternative Communication (AAC)
URL:https://giftedgems.org/event/autism-awareness-augmentative-and-alternative-communication-aac/
CATEGORIES:Webinar
ATTACH;FMTTYPE=image/webp:https://giftedgems.org/wp-content/uploads/2023/10/event-autism_awareness_webinar-aac.webp
ORGANIZER;CN="Gifted Gems":MAILTO:info@giftedgems.org
END:VEVENT
BEGIN:VEVENT
DTSTART;TZID=Europe/Moscow:20230517T100000
DTEND;TZID=Europe/Moscow:20230517T120000
DTSTAMP:20260421T172749
CREATED:20231029T131828Z
LAST-MODIFIED:20231029T131828Z
UID:2959-1684317600-1684324800@giftedgems.org
SUMMARY:Autism and Communication - Speech Therapy
DESCRIPTION:Linnah Okwatch \nSpeech Therapist and upcoming Listen and Spoken Language Specialist and Certified Auditory Verbal Therapist
URL:https://giftedgems.org/event/autism-and-communication-speech-therapy/
CATEGORIES:Webinar
ATTACH;FMTTYPE=image/webp:https://giftedgems.org/wp-content/uploads/2023/10/event-autism_awareness_webinar-speech_therapy.webp
ORGANIZER;CN="Gifted Gems":MAILTO:info@giftedgems.org
END:VEVENT
BEGIN:VEVENT
DTSTART;TZID=Europe/Moscow:20230419T100000
DTEND;TZID=Europe/Moscow:20230419T120000
DTSTAMP:20260421T172749
CREATED:20231029T141453Z
LAST-MODIFIED:20250618T085330Z
UID:2974-1681898400-1681905600@giftedgems.org
SUMMARY:Autism Awareness: Occupational Therapy
DESCRIPTION:Join us on Zoom as our team of experts discuss: \n\nWhat is occupational therapy?\nWhy is it important for children with autism?\nHow is it done?\nQ&A session and so much more!
URL:https://giftedgems.org/event/autism-awareness-occupational-therapy/
CATEGORIES:Webinar
ATTACH;FMTTYPE=image/webp:https://giftedgems.org/wp-content/uploads/2023/10/event-autism_awareness_webinar-occupational_therapy.webp
ORGANIZER;CN="Gifted Gems":MAILTO:info@giftedgems.org
END:VEVENT
BEGIN:VEVENT
DTSTART;TZID=Europe/Moscow:20230305T100000
DTEND;TZID=Europe/Moscow:20230305T120000
DTSTAMP:20260421T172749
CREATED:20231029T142054Z
LAST-MODIFIED:20231029T142054Z
UID:2976-1678010400-1678017600@giftedgems.org
SUMMARY:Autism Awareness: Autism Acceptance and Mental Health of Caregiver
DESCRIPTION:Tips on accepting diagnosis.\nDemerits and impact of denial of autism diagnosis.\nHelping others accept the diagnosis; siblings\, relatives and friends.\nIntentional mental healthcare of the caregiver.
URL:https://giftedgems.org/event/autism-awareness-autism-acceptance-and-mental-health-of-caregiver/
CATEGORIES:Webinar
ATTACH;FMTTYPE=image/webp:https://giftedgems.org/wp-content/uploads/2023/10/event-autism_awareness_webinar-autism_acceptance_and_mental_health_of_caregiver.webp
ORGANIZER;CN="Gifted Gems":MAILTO:info@giftedgems.org
END:VEVENT
BEGIN:VEVENT
DTSTART;TZID=Europe/Moscow:20230215T100000
DTEND;TZID=Europe/Moscow:20230215T120000
DTSTAMP:20260421T172749
CREATED:20231029T142415Z
LAST-MODIFIED:20231029T142415Z
UID:2978-1676455200-1676462400@giftedgems.org
SUMMARY:Autism Awareness In Children
DESCRIPTION:Autism Awareness In Children \n\nSigns and symptoms\nCauses\nDiagnosis\nMyths and facts
URL:https://giftedgems.org/event/autism-awareness-in-children/
CATEGORIES:Training,Webinar
ATTACH;FMTTYPE=image/webp:https://giftedgems.org/wp-content/uploads/2023/10/event-autism_awareness_webinar-autism_awareness_in_children.webp
ORGANIZER;CN="Gifted Gems":MAILTO:info@giftedgems.org
END:VEVENT
END:VCALENDAR