BEGIN:VCALENDAR
VERSION:2.0
PRODID:-//Gifted Gems - ECPv6.15.18//NONSGML v1.0//EN
CALSCALE:GREGORIAN
METHOD:PUBLISH
X-WR-CALNAME:Gifted Gems
X-ORIGINAL-URL:https://giftedgems.org
X-WR-CALDESC:Events for Gifted Gems
REFRESH-INTERVAL;VALUE=DURATION:PT1H
X-Robots-Tag:noindex
X-PUBLISHED-TTL:PT1H
BEGIN:VTIMEZONE
TZID:Europe/Moscow
BEGIN:STANDARD
TZOFFSETFROM:+0300
TZOFFSETTO:+0300
TZNAME:MSK
DTSTART:20240101T000000
END:STANDARD
END:VTIMEZONE
BEGIN:VEVENT
DTSTART;TZID=Europe/Moscow:20250701T190000
DTEND;TZID=Europe/Moscow:20250701T210000
DTSTAMP:20260424T015212
CREATED:20250618T084440Z
LAST-MODIFIED:20250630T190636Z
UID:3458-1751396400-1751403600@giftedgems.org
SUMMARY:Together Through the Spectrum: Caregivers' Experiences and Insights
DESCRIPTION:FREE WEBINAR INVITE\nTogether Through the Spectrum: Caregivers’ Experiences and Insights\nTransitioning into and Managing Teenagehood for Children with Autism\nDate: Tuesday\, 1st July 2025\n🕖 Time: 7:00 PM – 9:00 PM EAT\n📍 Zoom Platform\n🔗 Register Here: https://us06web.zoom.us/meeting/register/NMZCSfs9Q4-7k8Z6CVJqSw\n🔐 Meeting ID 893 1891 0866| Passcode: 156151 \nUnderstanding Teenagehood in Autism: Why This Webinar Matters\nTeenagehood is a time of immense change — physically\, emotionally\, socially\, and cognitively. For children with autism\, this period can be especially complex. Shifts in behavior\, emerging questions around sexuality\, struggles with identity\, and increased academic and social pressures can challenge both teens and their caregivers.\nChildren on the spectrum may experience puberty differently and might require unique support systems to navigate this critical life stage. As caregivers\, understanding these changes is essential in helping teens thrive while maintaining their dignity\, autonomy\, and well-being.\nThis webinar will provide a safe and informative space where caregivers can learn from those who’ve walked the journey — as parents and professionals. It’s a moment to reflect\, relate\, and be re-energized with practical tools for guiding autistic teens through this phase.\n🎙 Featured Speakers:\n• Masika Naliaka Isabella – Special Needs Educator & Autism Parent\n• Martin Kilavi – Therapist\, Disability Advocate & Special Needs Father\n• Irene Muturi Kigathi- Advocate and Mum of an adult with autism\, Functional Living Skills Trainer/Special Needs Coach\n• Paul Mugi- Lawyer\n• Moderator: Caroline Wathigi – Executive Director\, Gifted Gems \n💡 What to Expect:\n✔ Lived experiences from autism caregivers\n✔ Expert strategies for managing behavior and development\n✔ Guidance on sexuality\, education\, and social challenges\n✔ A supportive\, interactive session \nWho Should Attend?\n• Parents and caregivers of children with autism\n• Educators and therapists\n• Youth advocates and disability inclusion champions\n• Anyone interested in autism awareness and support\nLet’s come together to explore\, learn\, and support one another — through the spectrum and beyond.\nRegister today and invite a fellow caregiver!
URL:https://giftedgems.org/event/together-through-the-spectrum-caregivers-experiences-and-insights/
CATEGORIES:Training,Webinar
ATTACH;FMTTYPE=image/webp:https://giftedgems.org/wp-content/uploads/2025/06/GG-Webinar-Together-through-the-spectrum-Caregiver-experiences-and-insights.webp
ORGANIZER;CN="Gifted Gems":MAILTO:info@giftedgems.org
END:VEVENT
END:VCALENDAR